BEGIN:VCALENDAR
VERSION:2.0
PRODID:Allegan County, MI Calendar Creator
METHOD:PUBLISH
BEGIN:VEVENT
DTSTAMP:20251113T143939
DTSTART:20251023T090000
DTEND:20251023T110000
SUMMARY:Board of Commissioners Meeting
DESCRIPTION:<p>YouTube:&nbsp;&nbsp;<a href="https://www.youtube.com/channel/UCQIiZQstN2Pa57QAItAWdKA" target="_blank">https://www.youtube.com/channel/UCQIiZQstN2Pa57QAItAWdKA</a></p><p>Zoom recording - <a href="https://us02web.zoom.us/rec/play/DXlSE5oP5tcUOhprwyzqexVUsWIgVZki6ajeVxUIkwsQ-79QVJu-i8eX2SwTtzYi9k34krnSKHIxGw_G.bFfRbNaFMvre6Ceo" target="_blank" rel="noopener">video</a></p><ul>    <li><a href="https://allegan.prod-as.govaccess.org/home/showpublisheddocument/17321/638963208655930000" target="_blank" rel="noopener">20251023BOC_BOC20251009_minutes</a></li>    <li><a href="https://allegan.prod-as.govaccess.org/home/showpublisheddocument/17325/638963208668870000" target="_blank" rel="noopener">20251023BOC_IS_MSUE Annual Report</a></li>    <li><a href="https://allegan.prod-as.govaccess.org/home/showpublisheddocument/17315/638963208608270000" target="_blank" rel="noopener">20251023BOC_AD1_Quarterly Report</a></li>    <li><a href="https://allegan.prod-as.govaccess.org/home/showpublisheddocument/17323/638967971144170000" target="_blank" rel="noopener">20251023BOC_C1_approveclaims</a></li>    <li><a href="https://allegan.prod-as.govaccess.org/home/showpublisheddocument/17347/638968191107800000" target="_blank" rel="noopener">20251023BOC_D1_EDC_Dissolution</a></li>    <li><a href="https://allegan.prod-as.govaccess.org/home/showpublisheddocument/17349/638967656656000000" target="_blank" rel="noopener">20251023BOC_D2_Delist Parking</a></li>    <li><a href="https://allegan.prod-as.govaccess.org/home/showpublisheddocument/17313/638967655578970000" target="_blank" rel="noopener">20251023BOC_A1_2025_AC_TaxLevies</a></li>    <li><a href="https://allegan.prod-as.govaccess.org/home/showpublisheddocument/17341/638967462706170000" target="_blank" rel="noopener">20251023BOC_P1_Brownfield 101 TIF</a></li></ul>
X-ALT-DESC;FMTTYPE=text/html:<p>YouTube:&nbsp;&nbsp;<a href="https://www.youtube.com/channel/UCQIiZQstN2Pa57QAItAWdKA" target="_blank">https://www.youtube.com/channel/UCQIiZQstN2Pa57QAItAWdKA</a></p><p>Zoom recording - <a href="https://us02web.zoom.us/rec/play/DXlSE5oP5tcUOhprwyzqexVUsWIgVZki6ajeVxUIkwsQ-79QVJu-i8eX2SwTtzYi9k34krnSKHIxGw_G.bFfRbNaFMvre6Ceo" target="_blank" rel="noopener">video</a></p><ul>    <li><a href="https://allegan.prod-as.govaccess.org/home/showpublisheddocument/17321/638963208655930000" target="_blank" rel="noopener">20251023BOC_BOC20251009_minutes</a></li>    <li><a href="https://allegan.prod-as.govaccess.org/home/showpublisheddocument/17325/638963208668870000" target="_blank" rel="noopener">20251023BOC_IS_MSUE Annual Report</a></li>    <li><a href="https://allegan.prod-as.govaccess.org/home/showpublisheddocument/17315/638963208608270000" target="_blank" rel="noopener">20251023BOC_AD1_Quarterly Report</a></li>    <li><a href="https://allegan.prod-as.govaccess.org/home/showpublisheddocument/17323/638967971144170000" target="_blank" rel="noopener">20251023BOC_C1_approveclaims</a></li>    <li><a href="https://allegan.prod-as.govaccess.org/home/showpublisheddocument/17347/638968191107800000" target="_blank" rel="noopener">20251023BOC_D1_EDC_Dissolution</a></li>    <li><a href="https://allegan.prod-as.govaccess.org/home/showpublisheddocument/17349/638967656656000000" target="_blank" rel="noopener">20251023BOC_D2_Delist Parking</a></li>    <li><a href="https://allegan.prod-as.govaccess.org/home/showpublisheddocument/17313/638967655578970000" target="_blank" rel="noopener">20251023BOC_A1_2025_AC_TaxLevies</a></li>    <li><a href="https://allegan.prod-as.govaccess.org/home/showpublisheddocument/17341/638967462706170000" target="_blank" rel="noopener">20251023BOC_P1_Brownfield 101 TIF</a></li></ul>
LOCATION:County Services Building - Board Room\, 3283 122nd Avenue Allegan\, Michigan 49010
CLASS:PUBLIC
END:VEVENT
END:VCALENDAR
