BEGIN:VCALENDAR
VERSION:2.0
PRODID:Allegan County, MI Calendar Creator
METHOD:PUBLISH
BEGIN:VEVENT
DTSTAMP:20260227T081710
DTSTART:20250724T090000
DTEND:20250724T110000
SUMMARY:Board of Commissioners Meeting
DESCRIPTION:<ul>    <li><a href="https://allegan.prod-as.govaccess.org/home/showpublisheddocument/16890/638884509075230000" target="_blank">20250724BOC_BOC_Communication</a></li>    <li><a href="https://allegan.prod-as.govaccess.org/home/showpublisheddocument/16888/638884509069630000" target="_blank">20250724BOC_BOC_20250710_minutes</a></li>    <li><a href="https://allegan.prod-as.govaccess.org/home/showpublisheddocument/16894/638887026729000000" target="_blank">20250724BOC_IS1_PD_2024AnnualReport</a></li>    <li><a href="https://allegan.prod-as.govaccess.org/home/showpublisheddocument/16886/638884509063970000" target="_blank">20250724BOC_AR1_2025_QuarterlyCapitalReport</a></li>    <li><a href="https://allegan.prod-as.govaccess.org/home/showpublisheddocument/16892/638889402432270000" target="_blank">20250724BOC_C1_BOC_approveclaims</a></li>    <li><a href="https://allegan.prod-as.govaccess.org/home/showpublisheddocument/16912/638887989010930000" target="_blank">20250724BOC_D1_254843_TD_Award Storage Addition Project</a></li>    <li><a href="https://allegan.prod-as.govaccess.org/home/showpublisheddocument/16914/638887989016670000" target="_blank">20250724BOC_D2_254853_Admin_Capital Budget Adjustment</a></li>    <li><a href="https://allegan.prod-as.govaccess.org/home/showpublisheddocument/16910/638887989004570000" target="_blank">20250724BOC_A1_State Emergency Funding</a></li></ul>
X-ALT-DESC;FMTTYPE=text/html:<ul>    <li><a href="https://allegan.prod-as.govaccess.org/home/showpublisheddocument/16890/638884509075230000" target="_blank">20250724BOC_BOC_Communication</a></li>    <li><a href="https://allegan.prod-as.govaccess.org/home/showpublisheddocument/16888/638884509069630000" target="_blank">20250724BOC_BOC_20250710_minutes</a></li>    <li><a href="https://allegan.prod-as.govaccess.org/home/showpublisheddocument/16894/638887026729000000" target="_blank">20250724BOC_IS1_PD_2024AnnualReport</a></li>    <li><a href="https://allegan.prod-as.govaccess.org/home/showpublisheddocument/16886/638884509063970000" target="_blank">20250724BOC_AR1_2025_QuarterlyCapitalReport</a></li>    <li><a href="https://allegan.prod-as.govaccess.org/home/showpublisheddocument/16892/638889402432270000" target="_blank">20250724BOC_C1_BOC_approveclaims</a></li>    <li><a href="https://allegan.prod-as.govaccess.org/home/showpublisheddocument/16912/638887989010930000" target="_blank">20250724BOC_D1_254843_TD_Award Storage Addition Project</a></li>    <li><a href="https://allegan.prod-as.govaccess.org/home/showpublisheddocument/16914/638887989016670000" target="_blank">20250724BOC_D2_254853_Admin_Capital Budget Adjustment</a></li>    <li><a href="https://allegan.prod-as.govaccess.org/home/showpublisheddocument/16910/638887989004570000" target="_blank">20250724BOC_A1_State Emergency Funding</a></li></ul>
LOCATION:County Services Building - Board Room\, 3283 122nd Avenue Allegan\, Michigan 49010
CLASS:PUBLIC
END:VEVENT
END:VCALENDAR
