BEGIN:VCALENDAR
VERSION:2.0
PRODID:Allegan County, MI Calendar Creator
METHOD:PUBLISH
BEGIN:VEVENT
DTSTAMP:20251027T155230
DTSTART:20251009T190000
DTEND:20251009T210000
SUMMARY:Annual Board of Commissioners Meeting
DESCRIPTION:<p>YouTube:&nbsp;&nbsp;<a href="https://www.youtube.com/channel/UCQIiZQstN2Pa57QAItAWdKA" target="_blank">https://www.youtube.com/channel/UCQIiZQstN2Pa57QAItAWdKA</a></p><p>Zoom recording - <a href="https://us02web.zoom.us/rec/play/jSPR5KKeD4Nu77tivaji0Iltv_l6oI8mEo-gLXZjBmHN41DtcLbieJJ0kszwmDaiNKFpNFizr_9KUpUS.7sB_1gkXBZ0NpInq" target="_blank" rel="noopener">video</a></p><ul>    <li><a href="https://allegan.prod-as.govaccess.org/home/showpublisheddocument/17255/638950193995200000" target="_blank" rel="noopener">20251009BOC_P1_Budget Hearing</a></li>    <li><a href="https://allegan.prod-as.govaccess.org/home/showpublisheddocument/17249/638950193977370000" target="_blank" rel="noopener">20251009BOC_BOC_Communication</a></li>    <li><a href="https://allegan.prod-as.govaccess.org/home/showpublisheddocument/17251/638950193983130000" target="_blank" rel="noopener">20251009BOC_BOC20250925_minutes</a></li>    <li><a href="https://allegan.prod-as.govaccess.org/home/showpublisheddocument/17271/638955366911170000" target="_blank" rel="noopener">20251009BOC_P1_Broadband Update</a></li>    <li><a href="https://allegan.prod-as.govaccess.org/home/showpublisheddocument/17269/638954222433800000" target="_blank" rel="noopener">20251009BOC_IS1_Road Commission Annual Report</a></li>    <li><a href="https://allegan.prod-as.govaccess.org/home/showpublisheddocument/17267/638955373619000000" target="_blank" rel="noopener">20251009BOC_C1_BOC_approveclaims</a></li>    <li><a href="https://allegan.prod-as.govaccess.org/home/showpublisheddocument/17253/638950193988370000" target="_blank" rel="noopener">20251009BOC_D1_dissolve Broadband Workgroup</a></li>    <li><a href="https://allegan.prod-as.govaccess.org/home/showpublisheddocument/17237/638950193903870000" target="_blank" rel="noopener">20251009BOC_A1_2026 General Appropriation</a></li>    <li><a href="https://allegan.prod-as.govaccess.org/home/showpublisheddocument/17239/638950193909730000" target="_blank" rel="noopener">20251009BOC_A2_Board of Canvassers Election</a></li>    <li><a href="https://allegan.prod-as.govaccess.org/home/showpublisheddocument/17241/638950193915130000" target="_blank" rel="noopener">20251009BOC_A3_Appointments-Elections</a></li></ul>
X-ALT-DESC;FMTTYPE=text/html:<p>YouTube:&nbsp;&nbsp;<a href="https://www.youtube.com/channel/UCQIiZQstN2Pa57QAItAWdKA" target="_blank">https://www.youtube.com/channel/UCQIiZQstN2Pa57QAItAWdKA</a></p><p>Zoom recording - <a href="https://us02web.zoom.us/rec/play/jSPR5KKeD4Nu77tivaji0Iltv_l6oI8mEo-gLXZjBmHN41DtcLbieJJ0kszwmDaiNKFpNFizr_9KUpUS.7sB_1gkXBZ0NpInq" target="_blank" rel="noopener">video</a></p><ul>    <li><a href="https://allegan.prod-as.govaccess.org/home/showpublisheddocument/17255/638950193995200000" target="_blank" rel="noopener">20251009BOC_P1_Budget Hearing</a></li>    <li><a href="https://allegan.prod-as.govaccess.org/home/showpublisheddocument/17249/638950193977370000" target="_blank" rel="noopener">20251009BOC_BOC_Communication</a></li>    <li><a href="https://allegan.prod-as.govaccess.org/home/showpublisheddocument/17251/638950193983130000" target="_blank" rel="noopener">20251009BOC_BOC20250925_minutes</a></li>    <li><a href="https://allegan.prod-as.govaccess.org/home/showpublisheddocument/17271/638955366911170000" target="_blank" rel="noopener">20251009BOC_P1_Broadband Update</a></li>    <li><a href="https://allegan.prod-as.govaccess.org/home/showpublisheddocument/17269/638954222433800000" target="_blank" rel="noopener">20251009BOC_IS1_Road Commission Annual Report</a></li>    <li><a href="https://allegan.prod-as.govaccess.org/home/showpublisheddocument/17267/638955373619000000" target="_blank" rel="noopener">20251009BOC_C1_BOC_approveclaims</a></li>    <li><a href="https://allegan.prod-as.govaccess.org/home/showpublisheddocument/17253/638950193988370000" target="_blank" rel="noopener">20251009BOC_D1_dissolve Broadband Workgroup</a></li>    <li><a href="https://allegan.prod-as.govaccess.org/home/showpublisheddocument/17237/638950193903870000" target="_blank" rel="noopener">20251009BOC_A1_2026 General Appropriation</a></li>    <li><a href="https://allegan.prod-as.govaccess.org/home/showpublisheddocument/17239/638950193909730000" target="_blank" rel="noopener">20251009BOC_A2_Board of Canvassers Election</a></li>    <li><a href="https://allegan.prod-as.govaccess.org/home/showpublisheddocument/17241/638950193915130000" target="_blank" rel="noopener">20251009BOC_A3_Appointments-Elections</a></li></ul>
LOCATION:County Services Building - Board Room\, 3283 122nd Avenue Allegan\, Michigan 49010
CLASS:PUBLIC
END:VEVENT
END:VCALENDAR
