BEGIN:VCALENDAR
VERSION:2.0
PRODID:Allegan County, MI Calendar Creator
METHOD:PUBLISH
BEGIN:VEVENT
DTSTAMP:20250926T141627
DTSTART:20250911T090000
DTEND:20250911T110000
SUMMARY:Board of Commissioners Meeting
DESCRIPTION:<p>YouTube:&nbsp;&nbsp;<a href="https://www.youtube.com/channel/UCQIiZQstN2Pa57QAItAWdKA" target="_blank">https://www.youtube.com/channel/UCQIiZQstN2Pa57QAItAWdKA</a></p><p>Zoom recording - <a href="https://us02web.zoom.us/rec/play/fVNq7gjWgNHfxFZjWxCJzXVuvZzuAZ9yLUgu4kLeNbKzgxvk25CZe6_u-gNlobsTLSY5GYnGzdz7MMh-.TkuIKaU9JzTI316j" target="_blank">video</a></p><ul>    <li><a href="https://allegan.prod-as.govaccess.org/home/showpublisheddocument/17106/638926874681270000" target="_blank">20250911BOC_BOC_Communications</a></li>    <li><a href="https://allegan.prod-as.govaccess.org/home/showpublisheddocument/17104/638926874673830000" target="_blank">20250911BOC_BOC_20250828_minutes</a></li>    <li><a href="https://allegan.prod-as.govaccess.org/home/showpublisheddocument/17110/638926874692070000" target="_blank">20250911BOC_IS1_Treasurers 2024 Annual Report</a></li>    <li><a href="https://allegan.prod-as.govaccess.org/home/showpublisheddocument/17108/638931063337630000" target="_blank">20250911BOC_C1_BOC_approveclaims</a></li>    <li><a href="https://allegan.prod-as.govaccess.org/home/showpublisheddocument/17126/638931062983330000" target="_blank">20250911BOC_D2_256723_SD_award Inmate Medical and Mental Health Care Bid</a></li></ul>
X-ALT-DESC;FMTTYPE=text/html:<p>YouTube:&nbsp;&nbsp;<a href="https://www.youtube.com/channel/UCQIiZQstN2Pa57QAItAWdKA" target="_blank">https://www.youtube.com/channel/UCQIiZQstN2Pa57QAItAWdKA</a></p><p>Zoom recording - <a href="https://us02web.zoom.us/rec/play/fVNq7gjWgNHfxFZjWxCJzXVuvZzuAZ9yLUgu4kLeNbKzgxvk25CZe6_u-gNlobsTLSY5GYnGzdz7MMh-.TkuIKaU9JzTI316j" target="_blank">video</a></p><ul>    <li><a href="https://allegan.prod-as.govaccess.org/home/showpublisheddocument/17106/638926874681270000" target="_blank">20250911BOC_BOC_Communications</a></li>    <li><a href="https://allegan.prod-as.govaccess.org/home/showpublisheddocument/17104/638926874673830000" target="_blank">20250911BOC_BOC_20250828_minutes</a></li>    <li><a href="https://allegan.prod-as.govaccess.org/home/showpublisheddocument/17110/638926874692070000" target="_blank">20250911BOC_IS1_Treasurers 2024 Annual Report</a></li>    <li><a href="https://allegan.prod-as.govaccess.org/home/showpublisheddocument/17108/638931063337630000" target="_blank">20250911BOC_C1_BOC_approveclaims</a></li>    <li><a href="https://allegan.prod-as.govaccess.org/home/showpublisheddocument/17126/638931062983330000" target="_blank">20250911BOC_D2_256723_SD_award Inmate Medical and Mental Health Care Bid</a></li></ul>
LOCATION:County Services Building - Board Room\, 3283 122nd Avenue Allegan\, Michigan 49010
CLASS:PUBLIC
END:VEVENT
END:VCALENDAR
