BEGIN:VCALENDAR
VERSION:2.0
PRODID:Allegan County, MI Calendar Creator
METHOD:PUBLISH
BEGIN:VEVENT
DTSTAMP:20260227T081753
DTSTART:20250828T090000
DTEND:20250828T110000
SUMMARY:Board of Commissioners Meeting
DESCRIPTION:<ul>    <li><a href="https://allegan.prod-as.govaccess.org/home/showpublisheddocument/17066/638918841598730000" target="_blank">20250828BOC_BOC20250814_minutes</a></li>    <li><a href="https://allegan.prod-as.govaccess.org/home/showpublisheddocument/17070/638919644662900000" target="_blank">20250828BOC_P2_MedicalExaminer_AnnualReport</a></li>    <li><a href="https://allegan.prod-as.govaccess.org/home/showpublisheddocument/17068/638919647285470000" target="_blank">20250828BOC_C1_BOC_approveclaims</a></li></ul><p>&nbsp;</p>
X-ALT-DESC;FMTTYPE=text/html:<ul>    <li><a href="https://allegan.prod-as.govaccess.org/home/showpublisheddocument/17066/638918841598730000" target="_blank">20250828BOC_BOC20250814_minutes</a></li>    <li><a href="https://allegan.prod-as.govaccess.org/home/showpublisheddocument/17070/638919644662900000" target="_blank">20250828BOC_P2_MedicalExaminer_AnnualReport</a></li>    <li><a href="https://allegan.prod-as.govaccess.org/home/showpublisheddocument/17068/638919647285470000" target="_blank">20250828BOC_C1_BOC_approveclaims</a></li></ul><p>&nbsp;</p>
LOCATION:County Services Building - Board Room\, 3283 122nd Avenue Allegan\, Michigan 49010
CLASS:PUBLIC
END:VEVENT
END:VCALENDAR
