BEGIN:VCALENDAR
VERSION:2.0
PRODID:Allegan County, MI Calendar Creator
METHOD:PUBLISH
BEGIN:VEVENT
DTSTAMP:20260227T081646
DTSTART:20250710T090000
DTEND:20250710T110000
SUMMARY:Board of Commissioners Meeting
DESCRIPTION:<ul>    <li><a href="https://allegan.prod-as.govaccess.org/home/showpublisheddocument/16802/638871482553800000" target="_blank">20250710BOC_BOC_20250626_minutes</a></li>    <li><a href="https://allegan.prod-as.govaccess.org/home/showpublisheddocument/16826/638877305304130000" target="_blank">20250710BOC_IS1_2024_CMH Annual Report</a>&nbsp;</li>    <li><a href="https://allegan.prod-as.govaccess.org/home/showpublisheddocument/16804/638876751219270000" target="_blank">20250710BOC_C1_BOC_approveclaims</a></li>    <li><a href="https://allegan.prod-as.govaccess.org/home/showpublisheddocument/16822/638875910933300000" target="_blank">20250710BOC_D1_EOC-Drain_Vehicle Purchases</a></li>    <li><a href="https://allegan.prod-as.govaccess.org/home/showpublisheddocument/16824/638875910939030000" target="_blank">20250710BOC_P1_Public Health_Quarter Report</a></li></ul>
X-ALT-DESC;FMTTYPE=text/html:<ul>    <li><a href="https://allegan.prod-as.govaccess.org/home/showpublisheddocument/16802/638871482553800000" target="_blank">20250710BOC_BOC_20250626_minutes</a></li>    <li><a href="https://allegan.prod-as.govaccess.org/home/showpublisheddocument/16826/638877305304130000" target="_blank">20250710BOC_IS1_2024_CMH Annual Report</a>&nbsp;</li>    <li><a href="https://allegan.prod-as.govaccess.org/home/showpublisheddocument/16804/638876751219270000" target="_blank">20250710BOC_C1_BOC_approveclaims</a></li>    <li><a href="https://allegan.prod-as.govaccess.org/home/showpublisheddocument/16822/638875910933300000" target="_blank">20250710BOC_D1_EOC-Drain_Vehicle Purchases</a></li>    <li><a href="https://allegan.prod-as.govaccess.org/home/showpublisheddocument/16824/638875910939030000" target="_blank">20250710BOC_P1_Public Health_Quarter Report</a></li></ul>
LOCATION:County Services Building - Board Room\, 3283 122nd Avenue Allegan\, Michigan 49010
CLASS:PUBLIC
END:VEVENT
END:VCALENDAR
