BEGIN:VCALENDAR
VERSION:2.0
PRODID:Allegan County, MI Calendar Creator
METHOD:PUBLISH
BEGIN:VEVENT
DTSTAMP:20260204T165051
DTSTART:20260512T180000
DTEND:20260512T200000
SUMMARY:Brownfield Redevelopment Authority
DESCRIPTION:
X-ALT-DESC;FMTTYPE=text/html:
LOCATION:Human Services Building - Zimmerman Room\, 3255 122nd Avenue Allegan\, Michigan 49010
CLASS:PUBLIC
END:VEVENT
END:VCALENDAR
