BEGIN:VCALENDAR
VERSION:2.0
PRODID:Allegan County, MI Calendar Creator
METHOD:PUBLISH
BEGIN:VEVENT
DTSTAMP:20260417T124542
DTSTART:20260407T083000
DTEND:20260407T120000
SUMMARY:Parks Advisory Board Meeting
DESCRIPTION:<p>Tuesday, April 7, 2026@ 8:30am<br>County Service Building – Board Conference Room -3283 122nd&nbsp;Ave, Allegan, MI 49010</p><p><a href="mailto:Parks@allegancounty.org?subject=Parks@allegancounty.org" id="Parks@allegancounty.org">Email with questions</a></p><p><a href="https://allegan.prod-as.govaccess.org/home/showpublisheddocument/18372/639105493462970000" target="_blank" rel="noopener">Parks Advisory Board Agenda</a></p><p><a href="https://us02web.zoom.us/j/81735523969" target="_blank" rel="noopener">Virtual Option</a></p><p><a href="https://allegan.prod-as.govaccess.org/home/showpublisheddocument/18454/639120261830070000" target="_blank" rel="noopener">Parks Advisory Board Draft Minutes</a></p>
X-ALT-DESC;FMTTYPE=text/html:<p>Tuesday, April 7, 2026@ 8:30am<br>County Service Building – Board Conference Room -3283 122nd&nbsp;Ave, Allegan, MI 49010</p><p><a href="mailto:Parks@allegancounty.org?subject=Parks@allegancounty.org" id="Parks@allegancounty.org">Email with questions</a></p><p><a href="https://allegan.prod-as.govaccess.org/home/showpublisheddocument/18372/639105493462970000" target="_blank" rel="noopener">Parks Advisory Board Agenda</a></p><p><a href="https://us02web.zoom.us/j/81735523969" target="_blank" rel="noopener">Virtual Option</a></p><p><a href="https://allegan.prod-as.govaccess.org/home/showpublisheddocument/18454/639120261830070000" target="_blank" rel="noopener">Parks Advisory Board Draft Minutes</a></p>
LOCATION:County Services Building - Board Room\, 3283 122nd Avenue Allegan\, Michigan 49010
CLASS:PUBLIC
END:VEVENT
END:VCALENDAR
