BEGIN:VCALENDAR
VERSION:2.0
PRODID:Allegan County, MI Calendar Creator
METHOD:PUBLISH
BEGIN:VEVENT
DTSTAMP:20260319T155006
DTSTART:20260613T090000
DTEND:20260613T120000
SUMMARY:Household Hazardous Waste & E-Waste Collection Event
DESCRIPTION:<p>This is a drive through event. Please bring your items to this drop off between 9am and 12pm and volunteers will unload from your vehicle and sort your items.&nbsp;</p><p>For information on items that are accepted please reference the flyers in the links below.</p><p>Please, NO LATEX PAINT. Latex paint is not a hazardous material. Latex paint may be dried out and disposed of with your garbage. Please see flyer below for more information.</p><p><a href="https://allegan.prod-as.govaccess.org/home/showpublisheddocument/14248/638520567658700000" target="_blank" rel="noopener">How to Dispose of Latex Paint</a></p><p><a href="https://allegan.prod-as.govaccess.org/home/showpublisheddocument/14246/638520564258670000" target="_blank" rel="noopener">HHW ACCEPTED - Not Accepted Guide</a></p><p><a href="https://allegan.prod-as.govaccess.org/home/showpublisheddocument/14244/638520564046700000" target="_blank" rel="noopener">ELECTRONICS Accepted-Not Accepted</a></p><p>&nbsp;</p><p>If you have further questions, please contact the Resource Recovery Coordinator at (269)686-4559 or by email at resourcerecovery@allegancounty.org</p>
X-ALT-DESC;FMTTYPE=text/html:<p>This is a drive through event. Please bring your items to this drop off between 9am and 12pm and volunteers will unload from your vehicle and sort your items.&nbsp;</p><p>For information on items that are accepted please reference the flyers in the links below.</p><p>Please, NO LATEX PAINT. Latex paint is not a hazardous material. Latex paint may be dried out and disposed of with your garbage. Please see flyer below for more information.</p><p><a href="https://allegan.prod-as.govaccess.org/home/showpublisheddocument/14248/638520567658700000" target="_blank" rel="noopener">How to Dispose of Latex Paint</a></p><p><a href="https://allegan.prod-as.govaccess.org/home/showpublisheddocument/14246/638520564258670000" target="_blank" rel="noopener">HHW ACCEPTED - Not Accepted Guide</a></p><p><a href="https://allegan.prod-as.govaccess.org/home/showpublisheddocument/14244/638520564046700000" target="_blank" rel="noopener">ELECTRONICS Accepted-Not Accepted</a></p><p>&nbsp;</p><p>If you have further questions, please contact the Resource Recovery Coordinator at (269)686-4559 or by email at resourcerecovery@allegancounty.org</p>
LOCATION:Fennville City Hall Parking Lot\, 125 S. Maple St Fennville\, Michigan 
CLASS:PUBLIC
END:VEVENT
END:VCALENDAR
