BEGIN:VCALENDAR
VERSION:2.0
PRODID:Allegan County, MI Calendar Creator
METHOD:PUBLISH
BEGIN:VEVENT
DTSTAMP:20260416T151721
DTSTART:20260409T090000
DTEND:20260409T120000
SUMMARY:Board of Commissioners Meeting
DESCRIPTION:<p>YouTube:&nbsp;&nbsp;<a href="https://www.youtube.com/channel/UCQIiZQstN2Pa57QAItAWdKA" target="_blank">https://www.youtube.com/channel/UCQIiZQstN2Pa57QAItAWdKA</a></p><p>Zoom recording - <a href="https://us02web.zoom.us/rec/play/c5SrZom7tTzq24w8SZQ5tjOEE_NVfa6Bz8CDv0_mJbd1s3ehoe10Z-V5jOWUiDAWC1bbe8H-69BGw2nT.lLMuoMC_1NBpbPq7" target="_blank" rel="noopener">video</a></p><ul>    <li><a href="https://allegan.prod-as.govaccess.org/home/showpublisheddocument/18396/639108267000170000" target="_blank" rel="noopener">20260409BOC_BOC 20260326_minutes</a></li>    <li><a href="https://allegan.prod-as.govaccess.org/home/showpublisheddocument/18408/639111500486400000" target="_blank" rel="noopener">20260409BOC_IS1_DC Annual Report</a></li>    <li><a href="https://allegan.prod-as.govaccess.org/home/showpublisheddocument/18398/639108267003000000" target="_blank" rel="noopener">20260409BOC_C1_BOC_approveclaims</a></li>    <li><a href="https://allegan.prod-as.govaccess.org/home/showpublisheddocument/18400/639108267005570000" target="_blank" rel="noopener">20260409BOC_D1_Pine Creek Lake Level</a></li>    <li><a href="https://allegan.prod-as.govaccess.org/home/showpublisheddocument/18402/639108267008330000" target="_blank" rel="noopener">20260409BOC_D2_Pine Lake Level</a></li>    <li><a href="https://allegan.prod-as.govaccess.org/home/showpublisheddocument/18418/639112569579530000" target="_blank" rel="noopener">20260409BOC_D3_BOC_Senior Millage Ballot Language</a></li>    <li><a href="https://allegan.prod-as.govaccess.org/home/showpublisheddocument/18420/639112569669270000" target="_blank" rel="noopener">20260409BOC_D4_BOC_Conservation District Millage Language</a></li>    <li><a href="https://allegan.prod-as.govaccess.org/home/showpublisheddocument/18404/639108267011070000" target="_blank" rel="noopener">20260409BOC_D5_BOC_GeneralAppointment</a></li></ul>
X-ALT-DESC;FMTTYPE=text/html:<p>YouTube:&nbsp;&nbsp;<a href="https://www.youtube.com/channel/UCQIiZQstN2Pa57QAItAWdKA" target="_blank">https://www.youtube.com/channel/UCQIiZQstN2Pa57QAItAWdKA</a></p><p>Zoom recording - <a href="https://us02web.zoom.us/rec/play/c5SrZom7tTzq24w8SZQ5tjOEE_NVfa6Bz8CDv0_mJbd1s3ehoe10Z-V5jOWUiDAWC1bbe8H-69BGw2nT.lLMuoMC_1NBpbPq7" target="_blank" rel="noopener">video</a></p><ul>    <li><a href="https://allegan.prod-as.govaccess.org/home/showpublisheddocument/18396/639108267000170000" target="_blank" rel="noopener">20260409BOC_BOC 20260326_minutes</a></li>    <li><a href="https://allegan.prod-as.govaccess.org/home/showpublisheddocument/18408/639111500486400000" target="_blank" rel="noopener">20260409BOC_IS1_DC Annual Report</a></li>    <li><a href="https://allegan.prod-as.govaccess.org/home/showpublisheddocument/18398/639108267003000000" target="_blank" rel="noopener">20260409BOC_C1_BOC_approveclaims</a></li>    <li><a href="https://allegan.prod-as.govaccess.org/home/showpublisheddocument/18400/639108267005570000" target="_blank" rel="noopener">20260409BOC_D1_Pine Creek Lake Level</a></li>    <li><a href="https://allegan.prod-as.govaccess.org/home/showpublisheddocument/18402/639108267008330000" target="_blank" rel="noopener">20260409BOC_D2_Pine Lake Level</a></li>    <li><a href="https://allegan.prod-as.govaccess.org/home/showpublisheddocument/18418/639112569579530000" target="_blank" rel="noopener">20260409BOC_D3_BOC_Senior Millage Ballot Language</a></li>    <li><a href="https://allegan.prod-as.govaccess.org/home/showpublisheddocument/18420/639112569669270000" target="_blank" rel="noopener">20260409BOC_D4_BOC_Conservation District Millage Language</a></li>    <li><a href="https://allegan.prod-as.govaccess.org/home/showpublisheddocument/18404/639108267011070000" target="_blank" rel="noopener">20260409BOC_D5_BOC_GeneralAppointment</a></li></ul>
LOCATION:County Services Building - Board Room\, 3283 122nd Avenue Allegan\, Michigan 49010
CLASS:PUBLIC
END:VEVENT
END:VCALENDAR
