BEGIN:VCALENDAR
VERSION:2.0
PRODID:Allegan County, MI Calendar Creator
METHOD:PUBLISH
BEGIN:VEVENT
DTSTAMP:20260313T150143
DTSTART:20260312T090000
DTEND:20260312T120000
SUMMARY:Board of Commissioners Meeting
DESCRIPTION:<p>YouTube:&nbsp;&nbsp;<a href="https://www.youtube.com/channel/UCQIiZQstN2Pa57QAItAWdKA" target="_blank">https://www.youtube.com/channel/UCQIiZQstN2Pa57QAItAWdKA</a></p><p>Zoom recording - <a href="https://us02web.zoom.us/rec/play/oBPzjWGqyR3Ig64wWjfNMfnejKiLv2op8iwZoQ3E-03uU0FV_7IPyiWzdCfgMjUI1r5a1kW0fmi8_kv6.E13IF0CXcjesXAQU" target="_blank" rel="noopener">video</a></p><ul>    <li><a href="https://allegan.prod-as.govaccess.org/home/showpublisheddocument/18248/639084124858500000" target="_blank" rel="noopener">20260312BOC_BOC 20260226_minutes</a></li>    <li><a href="https://allegan.prod-as.govaccess.org/home/showpublisheddocument/18256/639084124879230000" target="_blank" rel="noopener">20260312BOC_P1_ConservationDistrict_Update</a></li>    <li><a href="https://allegan.prod-as.govaccess.org/home/showpublisheddocument/18254/639084124872230000" target="_blank" rel="noopener">20260312BOC_IS1_CoClerk-ROD Annual Report</a></li>    <li><a href="https://allegan.prod-as.govaccess.org/home/showpublisheddocument/18250/639089014995000000" target="_blank" rel="noopener">20260312BOC_C1_BOC_approveclaims</a></li>    <li><a href="https://allegan.prod-as.govaccess.org/home/showpublisheddocument/18252/639084124868230000" target="_blank" rel="noopener">20260312BOC_D1_BOC_generalappointments</a></li></ul>
X-ALT-DESC;FMTTYPE=text/html:<p>YouTube:&nbsp;&nbsp;<a href="https://www.youtube.com/channel/UCQIiZQstN2Pa57QAItAWdKA" target="_blank">https://www.youtube.com/channel/UCQIiZQstN2Pa57QAItAWdKA</a></p><p>Zoom recording - <a href="https://us02web.zoom.us/rec/play/oBPzjWGqyR3Ig64wWjfNMfnejKiLv2op8iwZoQ3E-03uU0FV_7IPyiWzdCfgMjUI1r5a1kW0fmi8_kv6.E13IF0CXcjesXAQU" target="_blank" rel="noopener">video</a></p><ul>    <li><a href="https://allegan.prod-as.govaccess.org/home/showpublisheddocument/18248/639084124858500000" target="_blank" rel="noopener">20260312BOC_BOC 20260226_minutes</a></li>    <li><a href="https://allegan.prod-as.govaccess.org/home/showpublisheddocument/18256/639084124879230000" target="_blank" rel="noopener">20260312BOC_P1_ConservationDistrict_Update</a></li>    <li><a href="https://allegan.prod-as.govaccess.org/home/showpublisheddocument/18254/639084124872230000" target="_blank" rel="noopener">20260312BOC_IS1_CoClerk-ROD Annual Report</a></li>    <li><a href="https://allegan.prod-as.govaccess.org/home/showpublisheddocument/18250/639089014995000000" target="_blank" rel="noopener">20260312BOC_C1_BOC_approveclaims</a></li>    <li><a href="https://allegan.prod-as.govaccess.org/home/showpublisheddocument/18252/639084124868230000" target="_blank" rel="noopener">20260312BOC_D1_BOC_generalappointments</a></li></ul>
LOCATION:County Services Building - Board Room\, 3283 122nd Avenue Allegan\, Michigan 49010
CLASS:PUBLIC
END:VEVENT
END:VCALENDAR
