BEGIN:VCALENDAR
VERSION:2.0
PRODID:Allegan County, MI Calendar Creator
METHOD:PUBLISH
BEGIN:VEVENT
DTSTAMP:20251212T122320
DTSTART:20251113T090000
DTEND:20251113T110000
SUMMARY:Board of Commissioners Meeting
DESCRIPTION:<p>YouTube:&nbsp;&nbsp;<a href="https://www.youtube.com/channel/UCQIiZQstN2Pa57QAItAWdKA" target="_blank">https://www.youtube.com/channel/UCQIiZQstN2Pa57QAItAWdKA</a></p><p>Zoom recording - <a href="https://us02web.zoom.us/rec/play/PnPPAXZqKEkrRQYkNfbIbc4W2ci1vU6b7hVvPix3-vSyMyUaCye50_3NOgnglR7xO88fvSP23DRPmsEK.w_TrvMj01eQktGbX" target="_blank" rel="noopener">video</a></p><ul>    <li><a href="https://allegan.prod-as.govaccess.org/home/showpublisheddocument/17391/638981332239400000" target="_blank" rel="noopener">20251113BOC_BOC_Communication</a></li>    <li><a href="https://allegan.prod-as.govaccess.org/home/showpublisheddocument/17393/638981332244030000" target="_blank" rel="noopener">20251113BOC_BOC20251023_minutes</a></li>    <li><a href="https://allegan.prod-as.govaccess.org/home/showpublisheddocument/17401/638981332263030000" target="_blank" rel="noopener">20251113BOC_IS_Probation-Parole_Annual Report</a></li>    <li><a href="https://allegan.prod-as.govaccess.org/home/showpublisheddocument/17395/638985635172530000" target="_blank" rel="noopener">20251113BOC_C1_BOC_approveclaims</a></li>    <li><a href="https://allegan.prod-as.govaccess.org/home/showpublisheddocument/17397/638981332253330000" target="_blank" rel="noopener">20251113BOC_C2_259317_DC_concur Court Order</a></li>    <li><a href="https://allegan.prod-as.govaccess.org/home/showpublisheddocument/17399/638981332257900000" target="_blank" rel="noopener">20251113BOC_C3_259684_FIN_appoint Survey-Peer Review</a></li>    <li><a href="https://allegan.prod-as.govaccess.org/home/showpublisheddocument/17403/638981332267770000" target="_blank" rel="noopener">20251113BOC_P1_BOC_2026 Meeting Dates</a></li></ul>
X-ALT-DESC;FMTTYPE=text/html:<p>YouTube:&nbsp;&nbsp;<a href="https://www.youtube.com/channel/UCQIiZQstN2Pa57QAItAWdKA" target="_blank">https://www.youtube.com/channel/UCQIiZQstN2Pa57QAItAWdKA</a></p><p>Zoom recording - <a href="https://us02web.zoom.us/rec/play/PnPPAXZqKEkrRQYkNfbIbc4W2ci1vU6b7hVvPix3-vSyMyUaCye50_3NOgnglR7xO88fvSP23DRPmsEK.w_TrvMj01eQktGbX" target="_blank" rel="noopener">video</a></p><ul>    <li><a href="https://allegan.prod-as.govaccess.org/home/showpublisheddocument/17391/638981332239400000" target="_blank" rel="noopener">20251113BOC_BOC_Communication</a></li>    <li><a href="https://allegan.prod-as.govaccess.org/home/showpublisheddocument/17393/638981332244030000" target="_blank" rel="noopener">20251113BOC_BOC20251023_minutes</a></li>    <li><a href="https://allegan.prod-as.govaccess.org/home/showpublisheddocument/17401/638981332263030000" target="_blank" rel="noopener">20251113BOC_IS_Probation-Parole_Annual Report</a></li>    <li><a href="https://allegan.prod-as.govaccess.org/home/showpublisheddocument/17395/638985635172530000" target="_blank" rel="noopener">20251113BOC_C1_BOC_approveclaims</a></li>    <li><a href="https://allegan.prod-as.govaccess.org/home/showpublisheddocument/17397/638981332253330000" target="_blank" rel="noopener">20251113BOC_C2_259317_DC_concur Court Order</a></li>    <li><a href="https://allegan.prod-as.govaccess.org/home/showpublisheddocument/17399/638981332257900000" target="_blank" rel="noopener">20251113BOC_C3_259684_FIN_appoint Survey-Peer Review</a></li>    <li><a href="https://allegan.prod-as.govaccess.org/home/showpublisheddocument/17403/638981332267770000" target="_blank" rel="noopener">20251113BOC_P1_BOC_2026 Meeting Dates</a></li></ul>
LOCATION:County Services Building - Board Room\, 3283 122nd Avenue Allegan\, Michigan 49010
CLASS:PUBLIC
END:VEVENT
END:VCALENDAR
