BEGIN:VCALENDAR
VERSION:2.0
PRODID:Allegan County, MI Calendar Creator
METHOD:PUBLISH
BEGIN:VEVENT
DTSTAMP:20260227T081735
DTSTART:20250814T090000
DTEND:20250814T110000
SUMMARY:Board of Commissioners Meeting
DESCRIPTION:<ul>    <li><a href="https://allegan.prod-as.govaccess.org/home/showpublisheddocument/16982/638902593887830000" target="_blank">20250814BOC_BOC_20250724_minutes</a></li>    <li><a href="https://allegan.prod-as.govaccess.org/home/showpublisheddocument/16986/638902593900230000" target="_blank">20250814BOC_IS1_MCC_2024 Annual Report</a></li>    <li><a href="https://allegan.prod-as.govaccess.org/home/showpublisheddocument/16984/638906982145100000" target="_blank">20250814BOC_C1_BOC_approveclaims</a></li>    <li><a href="https://allegan.prod-as.govaccess.org/home/showpublisheddocument/17002/638907618008400000" target="_blank">20250814BOC_P1b_ Parks Recreation Plan</a></li></ul>
X-ALT-DESC;FMTTYPE=text/html:<ul>    <li><a href="https://allegan.prod-as.govaccess.org/home/showpublisheddocument/16982/638902593887830000" target="_blank">20250814BOC_BOC_20250724_minutes</a></li>    <li><a href="https://allegan.prod-as.govaccess.org/home/showpublisheddocument/16986/638902593900230000" target="_blank">20250814BOC_IS1_MCC_2024 Annual Report</a></li>    <li><a href="https://allegan.prod-as.govaccess.org/home/showpublisheddocument/16984/638906982145100000" target="_blank">20250814BOC_C1_BOC_approveclaims</a></li>    <li><a href="https://allegan.prod-as.govaccess.org/home/showpublisheddocument/17002/638907618008400000" target="_blank">20250814BOC_P1b_ Parks Recreation Plan</a></li></ul>
LOCATION:County Services Building - Board Room\, 3283 122nd Avenue Allegan\, Michigan 49010
CLASS:PUBLIC
END:VEVENT
END:VCALENDAR
